BEGIN:VCALENDAR
VERSION:2.0
PRODID:-//NTAA - ECPv6.15.20//NONSGML v1.0//EN
CALSCALE:GREGORIAN
METHOD:PUBLISH
X-WR-CALNAME:NTAA
X-ORIGINAL-URL:https://northtexasalarmassociation.com
X-WR-CALDESC:Events for NTAA
REFRESH-INTERVAL;VALUE=DURATION:PT1H
X-Robots-Tag:noindex
X-PUBLISHED-TTL:PT1H
BEGIN:VTIMEZONE
TZID:America/Chicago
BEGIN:DAYLIGHT
TZOFFSETFROM:-0600
TZOFFSETTO:-0500
TZNAME:CDT
DTSTART:20250309T080000
END:DAYLIGHT
BEGIN:STANDARD
TZOFFSETFROM:-0500
TZOFFSETTO:-0600
TZNAME:CST
DTSTART:20251102T070000
END:STANDARD
BEGIN:DAYLIGHT
TZOFFSETFROM:-0600
TZOFFSETTO:-0500
TZNAME:CDT
DTSTART:20260308T080000
END:DAYLIGHT
BEGIN:STANDARD
TZOFFSETFROM:-0500
TZOFFSETTO:-0600
TZNAME:CST
DTSTART:20261101T070000
END:STANDARD
BEGIN:DAYLIGHT
TZOFFSETFROM:-0600
TZOFFSETTO:-0500
TZNAME:CDT
DTSTART:20270314T080000
END:DAYLIGHT
BEGIN:STANDARD
TZOFFSETFROM:-0500
TZOFFSETTO:-0600
TZNAME:CST
DTSTART:20271107T070000
END:STANDARD
END:VTIMEZONE
BEGIN:VEVENT
DTSTART;TZID=America/Chicago:20260416T120000
DTEND;TZID=America/Chicago:20260416T130000
DTSTAMP:20260423T064912
CREATED:20260413T193726Z
LAST-MODIFIED:20260413T193726Z
UID:578-1776340800-1776344400@northtexasalarmassociation.com
SUMMARY:NTAA April Membership Meeting
DESCRIPTION:Please join the NTAA Monthly Membership Meeting for lunch and to meet our guest speaker Mitch Reitman\, who will be discussing sales tax within the alarm industry! \nTexas sales tax can be confusing. According to Texas Administrative Code 34 TAC §3.333(e)\, “charges for providing security services to property or persons located in Texas are subject to Texas sales tax.” However\, many CPAs are not familiar with this provision or with Texas Occupations Code §1702. \nAs a result\, the Texas Comptroller of Public Accounts has begun systematically auditing companies licensed with the Private Security Bureau (PSB). \nPlease REGISTER and join us for a great discussion and learning experience.
URL:https://northtexasalarmassociation.com/single-event/ntaa-april-membership-meeting/
LOCATION:Security Equipment Supply\, 2315 Luna Rd\, # 136\, Carrollton\, TX\, 75006\, United States
CATEGORIES:Membership Meeting
ATTACH;FMTTYPE=image/png:https://northtexasalarmassociation.com/wp-content/uploads/2025/01/Reitman.png
END:VEVENT
END:VCALENDAR