BEGIN:VCALENDAR
VERSION:2.0
PRODID:-//NTAA - ECPv6.15.20//NONSGML v1.0//EN
CALSCALE:GREGORIAN
METHOD:PUBLISH
X-WR-CALNAME:NTAA
X-ORIGINAL-URL:https://northtexasalarmassociation.com
X-WR-CALDESC:Events for NTAA
REFRESH-INTERVAL;VALUE=DURATION:PT1H
X-Robots-Tag:noindex
X-PUBLISHED-TTL:PT1H
BEGIN:VTIMEZONE
TZID:America/Chicago
BEGIN:DAYLIGHT
TZOFFSETFROM:-0600
TZOFFSETTO:-0500
TZNAME:CDT
DTSTART:20250309T080000
END:DAYLIGHT
BEGIN:STANDARD
TZOFFSETFROM:-0500
TZOFFSETTO:-0600
TZNAME:CST
DTSTART:20251102T070000
END:STANDARD
BEGIN:DAYLIGHT
TZOFFSETFROM:-0600
TZOFFSETTO:-0500
TZNAME:CDT
DTSTART:20260308T080000
END:DAYLIGHT
BEGIN:STANDARD
TZOFFSETFROM:-0500
TZOFFSETTO:-0600
TZNAME:CST
DTSTART:20261101T070000
END:STANDARD
BEGIN:DAYLIGHT
TZOFFSETFROM:-0600
TZOFFSETTO:-0500
TZNAME:CDT
DTSTART:20270314T080000
END:DAYLIGHT
BEGIN:STANDARD
TZOFFSETFROM:-0500
TZOFFSETTO:-0600
TZNAME:CST
DTSTART:20271107T070000
END:STANDARD
END:VTIMEZONE
BEGIN:VEVENT
DTSTART;TZID=America/Chicago:20260319T120000
DTEND;TZID=America/Chicago:20260319T130000
DTSTAMP:20260423T145704
CREATED:20260303T131557Z
LAST-MODIFIED:20260303T131557Z
UID:572-1773921600-1773925200@northtexasalarmassociation.com
SUMMARY:NTAA March Membership Meeting
DESCRIPTION:Please join the NTAA Monthly Membership Meeting for lunch and to meet our guest speaker: \nPlease welcome Traci Isbell with 2GIG for an informative\, product & dealer focused presentation. Built on the legacy of the groundbreaking GC2e security panel\, the GC Touch sets a new benchmark for simplicity in setup\, ease of use & performance. Customers will appreciate the sleek new panel design\, 7-inch touchscreen\, smart home capabilities\, and intuitive\, modern user interface. \n🔹 New features of the GC Touch Panel\n🔹 Features & benefits of the new 345S Sensors\n🔹 Overview of E+ Long Range Sensors\n🔹 Dealer resources designed to support growth\n🔹 Details on the 2GIG Dealer Loyalty Program \nPlease REGISTER and join us for a great discussion and learning experience.
URL:https://northtexasalarmassociation.com/single-event/ntaa-march-membership-meeting/
LOCATION:Security Data Supply of Dallas\, 1000 West Crosby Road\, Suite 144\, Carrollton\, TX\, 75006\, United States
CATEGORIES:Membership Meeting
ATTACH;FMTTYPE=image/png:https://northtexasalarmassociation.com/wp-content/uploads/2026/03/2GIG.png
END:VEVENT
BEGIN:VEVENT
DTSTART;TZID=America/Chicago:20260219T110000
DTEND;TZID=America/Chicago:20260219T120000
DTSTAMP:20260423T145704
CREATED:20260108T145921Z
LAST-MODIFIED:20260205T151542Z
UID:563-1771498800-1771502400@northtexasalarmassociation.com
SUMMARY:NTAA February Membership Meeting
DESCRIPTION:Please join the NTAA Monthly Membership Meeting for lunch and to meet our guest speaker with CHeKT. \nProactive Video Alarm Monitoring: Turning Cameras into Verified Alarm Zones \nCHeKT enables dealers to convert existing and new cameras into intelligent alarm zones that deliver real time visual verification to monitoring centers\, operators\, and end users. Attendees will learn how visually verified alarms help reduce false dispatches\, improve response priority and create new recurring monthly revenue opportunities while aligning with industry compliance and best-practice standards. \nPlease REGISTER and join us for a free lunch\, great discussion\, and learning experience.
URL:https://northtexasalarmassociation.com/single-event/ntaa-february-membership-meeting/
LOCATION:AlarMax\, 11431 Ferrell Dr.\, Suite 200\, Farmers Branch\, TX\, 75234\, United States
CATEGORIES:Membership Meeting
END:VEVENT
END:VCALENDAR