BEGIN:VCALENDAR
VERSION:2.0
PRODID:-//NTAA - ECPv6.15.20//NONSGML v1.0//EN
CALSCALE:GREGORIAN
METHOD:PUBLISH
X-ORIGINAL-URL:https://northtexasalarmassociation.com
X-WR-CALDESC:Events for NTAA
REFRESH-INTERVAL;VALUE=DURATION:PT1H
X-Robots-Tag:noindex
X-PUBLISHED-TTL:PT1H
BEGIN:VTIMEZONE
TZID:America/Chicago
BEGIN:DAYLIGHT
TZOFFSETFROM:-0600
TZOFFSETTO:-0500
TZNAME:CDT
DTSTART:20250309T080000
END:DAYLIGHT
BEGIN:STANDARD
TZOFFSETFROM:-0500
TZOFFSETTO:-0600
TZNAME:CST
DTSTART:20251102T070000
END:STANDARD
BEGIN:DAYLIGHT
TZOFFSETFROM:-0600
TZOFFSETTO:-0500
TZNAME:CDT
DTSTART:20260308T080000
END:DAYLIGHT
BEGIN:STANDARD
TZOFFSETFROM:-0500
TZOFFSETTO:-0600
TZNAME:CST
DTSTART:20261101T070000
END:STANDARD
BEGIN:DAYLIGHT
TZOFFSETFROM:-0600
TZOFFSETTO:-0500
TZNAME:CDT
DTSTART:20270314T080000
END:DAYLIGHT
BEGIN:STANDARD
TZOFFSETFROM:-0500
TZOFFSETTO:-0600
TZNAME:CST
DTSTART:20271107T070000
END:STANDARD
END:VTIMEZONE
BEGIN:VEVENT
DTSTART;TZID=America/Chicago:20260521T080000
DTEND;TZID=America/Chicago:20260521T170000
DTSTAMP:20260423T065031
CREATED:20260310T144223Z
LAST-MODIFIED:20260310T144223Z
UID:576-1779350400-1779382800@northtexasalarmassociation.com
SUMMARY:2026 NTAA Annual Golf Tournament
DESCRIPTION:This event has been scheduled for Thursday\, May 21st\, with a shotgun start at 8:00am. We will be playing The Courses at Watters Creek located in Plano at Legacy and I-75. Please remember to see the registration page for all sponsorship opportunities we have to offer. We will have a putting contest\, long drive\, and closest to the pin contest. Breakfast tacos will be served in the morning with a delicious burger buffet for your lunch after golfing. We look forward to seeing you at the course. \nRegister Here \nFor course details\, visit www.WattersCreekGolf.com
URL:https://northtexasalarmassociation.com/single-event/2026-ntaa-annual-golf-tournament/
LOCATION:The Courses at Watters Creek\, 7201 Chase Oaks Blvd\, Plano\, TX\, 75025\, United States
CATEGORIES:Association Events
ATTACH;FMTTYPE=image/png:https://northtexasalarmassociation.com/wp-content/uploads/2025/02/Watters-Creek.png
END:VEVENT
END:VCALENDAR